BEGIN:VCALENDAR
PRODID:-//Microsoft Corporation//Outlook MIMEDIR//EN
VERSION:2.0
METHOD:PUBLISH
BEGIN:VEVENT
DTSTART:20260414T180000
DTEND:20260414T190000
DESCRIPTION:THIS MEETING HAS BEEN CANCELLED. THERE WILL BE A SPECIAL JOINT MEETING WITH THE PUBLIC SAFETY & TRANSPORTATION COMMITTEE ON 4/14/26 AT 6:00PM.
LOCATION:Public Works Conference Room
SUMMARY:Public Works & Environmental Concerns
CATEGORIES:MEETING
END:VEVENT
END:VCALENDAR
