BEGIN:VCALENDAR
PRODID:-//Microsoft Corporation//Outlook MIMEDIR//EN
VERSION:2.0
METHOD:PUBLISH
BEGIN:VEVENT
DTSTART:20260410T080000
DTEND:20260410T090000
DESCRIPTION:THIS IS A SPECIAL MEETING
LOCATION:POLICE DEPARTMENT
SUMMARY:Board of Fire and Police Commissioners
CATEGORIES:MEETING
END:VEVENT
END:VCALENDAR
